BEGIN:VCALENDAR
VERSION:2.0
PRODID:-//eventon.com NONSGML v1.0//EN
CALSCALE:GREGORIAN
METHOD:PUBLISH
BEGIN:VEVENT
UID:69e8a684e7a19
DTSTAMP:20260422T104420Z
DTSTART:20251204T180100Z
DTEND:20251204T225000Z
LOCATION:
SUMMARY:Gin Verkostung
DESCRIPTION:Entdecken Sie den den Alleskönner-Gin: Ob mit Zitrone oder Gur
 ke oder Tonic – Gin schmeckt einfach und läd zum experimentieren ein. Ko
 mmen Sie dem besonderen Geschmack des Wacholderschnaps näher  und erfahre
 n Sie alles über die wichtigsten Botanicals. Wer auf der Suche nach dem pe
 rfekten Gin ist\,  wird hier garantiert nicht[..]\nhttp://weinladen-friedri
 chshagen.de/events/gin-verkostung/
URL:http://weinladen-friedrichshagen.de/events/gin-verkostung/
END:VEVENT
END:VCALENDAR