BEGIN:VCALENDAR
VERSION:2.0
PRODID:-//eventon.com NONSGML v1.0//EN
CALSCALE:GREGORIAN
METHOD:PUBLISH
BEGIN:VEVENT
UID:69e4eb3a321d1
DTSTAMP:20260419T144826Z
DTSTART:20240503T170400Z
DTEND:20240503T215000Z
LOCATION:
SUMMARY:Naturweine im Vergleich (leider keine Plätze mehr frei)
DESCRIPTION:Unfiltrierte naturtrübe Weine\,  Orange Weine oder Amphorenwei
 ne lasst uns mal probieren was die Naturweine so können. Von Herstellung b
 is Genussmoment. Preis: 40\, 00€\nhttp://weinladen-friedrichshagen.de/eve
 nts/naturweine-im-vergleich-zu-klassisch-ausgebauten-weinen/
URL:http://weinladen-friedrichshagen.de/events/naturweine-im-vergleich-zu-klassisch-ausgebauten-weinen/
END:VEVENT
END:VCALENDAR